BEGIN:VCALENDAR
VERSION:2.0
CREATED:20260425T090357
METHOD:PUBLISH
BEGIN:VEVENT
PRODID:Focus Universal Inc.
UID:20260425T090357-226513366-
DTSTAMP:20260425T090357
DTSTART:20260619T210000Z
SUMMARY:Annual Meeting
DESCRIPTION:Annual Meeting\n\nDate: Jun 19, 2026 2:00 pm PDT\n\nMonterey Park, CA\n\n
LOCATION:Monterey Park, CA
END:VEVENT
END:VCALENDAR
